BEGIN:VCALENDAR
VERSION:2.0
PRODID:lauti.newsmast.org
METHOD:REQUEST
BEGIN:VEVENT
UID:1bbc38f1-7a62-4295-afa4-7f43c038aa7d
URL:https://lauti.newsmast.org/event/1bbc38f1-7a62-4295-afa4-7f43c038aa7d
SUMMARY:Open Source Tools for Malaria Forecasting
DTSTART:20260515T150000Z
DTEND:20260515T163000Z
CATEGORIES:webinar\,csid-tools
DESCRIPTION:A community webinar exploring the latest open-source software
  tools for climate-driven malaria forecasting. Presenters will demonstrate
  R and Python packages for integrating satellite-derived climate data with
  epidemiological surveillance data to predict malaria transmission risk.
LOCATION:Virtual\, Microsoft Teams
GEO:51.5074;-0.1278
ORGANIZER:mailto:CSID Network
END:VEVENT
BEGIN:VEVENT
UID:78c17833-5a57-4045-b272-56a3e29c6ea3
URL:https://lauti.newsmast.org/event/78c17833-5a57-4045-b272-56a3e29c6ea3
SUMMARY:Southeast Asia CSID Community Meetup
DTSTART:20260610T090000Z
DTEND:20260610T170000Z
CATEGORIES:meetup\,regional
DESCRIPTION:A regional gathering for CSID Network members across Southeast
  Asia to discuss localized climate-health challenges\, share field
  experiences with disease surveillance tools\, and build connections
  between researchers\, public health practitioners\, and software
  developers working on climate-sensitive infectious diseases in the
  region.
LOCATION:University of Yangon\, Myanmar\,  Pyay Road\, Kamayut Township\,
  Yangon\, Myanmar\, : Department of Zoology\, Main Campus
GEO:16.8267;96.1529
ORGANIZER:mailto:CSID Network
END:VEVENT
END:VCALENDAR
