BEGIN:VCALENDAR
VERSION:2.0
PRODID:lauti.newsmast.org
METHOD:REQUEST
BEGIN:VEVENT
UID:eef9bba1-b0cd-4c41-8ce5-52774e3583ae
URL:https://lauti.newsmast.org/event/eef9bba1-b0cd-4c41-8ce5-52774e3583ae
SUMMARY:Africa CSID Regional Workshop
DTSTART:20260622T083000Z
DTEND:20260624T160000Z
CATEGORIES:workshop\,regional
DESCRIPTION:A three-day regional workshop for African researchers and
  public health practitioners working on climate-sensitive infectious
  diseases. Topics include malaria forecasting tools for sub-Saharan
  Africa\, Rift Valley fever surveillance\, and building local capacity for
  climate-health data analysis.
LOCATION:KEMRI Headquarters\, Nairobi\, Kenya\, Mbagathi Road\, Nairobi
  00200\, Kenya\, Conference Hall\, Main Building
GEO:-1.3032;36.8145
ORGANIZER:mailto:KEMRI-Wellcome Trust Research
END:VEVENT
END:VCALENDAR
