BEGIN:VCALENDAR
VERSION:2.0
PRODID:lauti.newsmast.org
METHOD:REQUEST
BEGIN:VEVENT
UID:e4b65c49-8530-4362-95e9-df43970cd8c8
URL:https://lauti.newsmast.org/event/e4b65c49-8530-4362-95e9-df43970cd8c8
SUMMARY:CSID Network Virtual AGM 2026
DTSTART:20260922T140000Z
DTEND:20260922T170000Z
CATEGORIES:webinar\,governance
DESCRIPTION:Join us online for the 2026 CSID Network Annual General Meeting
  — an interactive\, community-led gathering showcasing the latest
  climate-sensitive infectious disease research and open-science tools.
  Features unconference sessions with peers from around the globe.
LOCATION:Virtual (Hosted from Berlin\, Germany)\,  Berlin\, Germany\, Zoom
  link will be shared via email
GEO:52.52;13.405
ORGANIZER:mailto:CSID Network
END:VEVENT
END:VCALENDAR
