BEGIN:VCALENDAR
VERSION:2.0
PRODID:lauti.newsmast.org
METHOD:REQUEST
BEGIN:VEVENT
UID:cb21a3e2-83da-45b0-aeef-527811a74f2d
URL:https://lauti.newsmast.org/event/cb21a3e2-83da-45b0-aeef-527811a74f2d
SUMMARY:Climate Change and Zoonotic Disease Risk
DTSTART:20260412T090000Z
DTEND:20260412T163000Z
CATEGORIES:conference\,climate-health
DESCRIPTION:A one-day seminar exploring how climate change is accelerating
  zoonotic disease spillover events. Topics include wildlife-human
  interface shifts driven by habitat loss\, temperature-dependent pathogen
  evolution\, and surveillance strategies for emerging zoonoses in
  climate-vulnerable regions.
LOCATION:University of Cape Town\, South Africa\, Anzio Road\,
  Observatory\, Cape Town 7925\, South Africa\, Faculty of Health Sciences
GEO:-33.9416;18.4616
END:VEVENT
END:VCALENDAR
