BEGIN:VCALENDAR
VERSION:2.0
PRODID:lauti.newsmast.org
METHOD:REQUEST
BEGIN:VEVENT
UID:c646f693-0739-4645-afcb-3eb547edd621
URL:https://lauti.newsmast.org/event/c646f693-0739-4645-afcb-3eb547edd621
SUMMARY:R Package Workshop: epicsid
DTSTART:20260518T140000Z
DTEND:20260518T160000Z
CATEGORIES:webinar\,csid-tools
DESCRIPTION:A beginner-friendly virtual workshop introducing the epicsid R
  package for climate-sensitive infectious disease analysis. Participants
  will learn to import climate and epidemiological datasets\, run basic
  forecasting models\, and generate visualization outputs for public health
  reporting.
LOCATION:Virtual
GEO:515074;-0.1278
END:VEVENT
END:VCALENDAR
