BEGIN:VCALENDAR
VERSION:2.0
PRODID:lauti.newsmast.org
METHOD:REQUEST
BEGIN:VEVENT
UID:b960de53-f287-4270-ae83-8f934a66ffb3
URL:https://lauti.newsmast.org/event/b960de53-f287-4270-ae83-8f934a66ffb3
SUMMARY:Cholera Surveillance in a Changing Climate
DTSTART:20260420T090000Z
DTEND:20260420T170000Z
CATEGORIES:workshop\,climate-health
DESCRIPTION:A three-day workshop examining the intersection of climate
  variability and cholera outbreaks in South Asia. Participants will
  explore satellite-based flood monitoring\, waterborne disease modelling\,
  and community-level surveillance strategies adapted for
  climate-vulnerable regions.
LOCATION:icddr\,b Campus\, Dhaka\, Bangladesh\, 68 Shaheed Tajuddin Ahmed
  Sarani\, Mohakhali\, Dhaka 1212\, Bangladesh\, Sasakawa Auditorium
GEO:23.7937;90.4066
ORGANIZER:mailto:icddr,b
END:VEVENT
END:VCALENDAR
