BEGIN:VCALENDAR
VERSION:2.0
PRODID:lauti.newsmast.org
METHOD:REQUEST
BEGIN:VEVENT
UID:b10364d8-7d2a-4241-8a38-7c4637552d73
URL:https://lauti.newsmast.org/event/b10364d8-7d2a-4241-8a38-7c4637552d73
SUMMARY:Dengue Early Warning Systems Workshop
DTSTART:20260309T082716Z
CATEGORIES:workshop\,vector-borne
DESCRIPTION:A hands-on workshop focused on building climate-informed early
  warning systems for dengue outbreaks. Participants will learn to use
  open-source CSID modelling tools\, work with climate and epidemiological
  datasets\, and develop forecasting pipelines for vector-borne disease
  surveillance.
LOCATION:Heidelberg University\, Germany\, Im Neuenheimer Feld 205\, 69120
  Heidelberg\, Germany\, Interdisciplinary Center for Scientific Computing
  (IWR)
GEO:49.4094;8.7063
ORGANIZER:mailto:JS focused conferences
END:VEVENT
END:VCALENDAR
