BEGIN:VCALENDAR
VERSION:2.0
PRODID:lauti.newsmast.org
METHOD:REQUEST
BEGIN:VEVENT
UID:847028e4-dd9e-4082-9bc2-00dcf8113fa4
URL:https://lauti.newsmast.org/event/847028e4-dd9e-4082-9bc2-00dcf8113fa4
SUMMARY:CSID Open Data Hackathon 2026
DTSTART:20260606T120000Z
DTEND:20260608T120000Z
CATEGORIES:workshop\,csid-tools
DESCRIPTION:A 48-hour virtual hackathon challenging teams to build
  innovative open-source tools using climate and infectious disease
  datasets. Tracks include dengue forecasting dashboards\, malaria risk
  mapping APIs\, and cholera early warning prototypes. Prizes for best
  tool\, best visualization\, and community choice.
LOCATION:Virtual (48-hour online event)\, Discord + GitHub
GEO:51.5074;-0.1278
ORGANIZER:mailto: CSID Network
END:VEVENT
END:VCALENDAR
