BEGIN:VCALENDAR
VERSION:2.0
PRODID:lauti.newsmast.org
METHOD:REQUEST
BEGIN:VEVENT
UID:81cf0825-1be4-45dd-8b08-fa9e74c850f7
URL:https://lauti.newsmast.org/event/81cf0825-1be4-45dd-8b08-fa9e74c850f7
SUMMARY:Latin America CSID Community Meetup
DTSTART:20260915T090000Z
DTEND:20260915T170000Z
CATEGORIES:meetup\,regional
DESCRIPTION:A regional gathering for CSID researchers and public health
  professionals across Latin America. Discussions will focus on dengue and
  Zika forecasting challenges in tropical urban environments\, Chagas
  disease surveillance under changing climate conditions\, and building
  Spanish-language resources for CSID modelling tools.
LOCATION:Universidad de los Andes\, Bogotá\, Colombia\, Cra. 1 #18a-12\,
  Bogotá\, Colombia\, School of Medicine\, Room 301
GEO:4.6018;-74.066
END:VEVENT
END:VCALENDAR
