BEGIN:VCALENDAR
VERSION:2.0
PRODID:lauti.newsmast.org
METHOD:REQUEST
BEGIN:VEVENT
UID:76bda901-7bb1-4e37-8f95-96d60cea2d69
URL:https://lauti.newsmast.org/event/76bda901-7bb1-4e37-8f95-96d60cea2d69
SUMMARY:Flood-Driven Disease Outbreaks: Lessons from South Asia
DTSTART:20260803T100000Z
DTEND:20260804T160000Z
CATEGORIES:conference\,climate-health
DESCRIPTION:A two-day conference examining the link between monsoon
  flooding and infectious disease outbreaks in South Asia. Case studies
  from Nepal\, Bangladesh\, and Myanmar will explore leptospirosis\,
  waterborne diarrhoeal diseases\, and vector breeding site expansion
  following extreme rainfall events.
LOCATION:Kathmandu University\, Nepal\, Dhulikhel\, Kavre\, Nepal\, School
  of Medical Sciences
GEO:27.6195;85.5381
END:VEVENT
END:VCALENDAR
