BEGIN:VCALENDAR
VERSION:2.0
PRODID:lauti.newsmast.org
METHOD:REQUEST
BEGIN:VEVENT
UID:19e2d99b-fc20-49d3-8a2b-d6855f29692e
URL:https://lauti.newsmast.org/event/19e2d99b-fc20-49d3-8a2b-d6855f29692e
SUMMARY:Climate & Health Lancet Countdown Webinar
DTSTART:20260730T140000Z
DTEND:20260730T153000Z
CATEGORIES:webinar\,climate-health
DESCRIPTION:An open-access webinar presenting key findings from the Lancet
  Countdown on Health and Climate Change. Speakers will discuss global
  trends in climate-sensitive infectious disease burden\, heat-related
  mortality\, and policy recommendations for health system adaptation.
LOCATION:Virtual (Open Access)\,  registration link on website
GEO:51.5074;-0.1278
ORGANIZER:mailto:WHO Climate & Health Programme
END:VEVENT
END:VCALENDAR
