BEGIN:VCALENDAR
VERSION:2.0
PRODID:lauti.newsmast.org
METHOD:REQUEST
BEGIN:VEVENT
UID:1785bda2-6f6c-4bdc-bed7-cfb171053039
URL:https://lauti.newsmast.org/event/1785bda2-6f6c-4bdc-bed7-cfb171053039
SUMMARY:Title: CSID Network 2026 Annual Meeting
DTSTART:20260714T090000Z
DTEND:20260716T050000Z
CATEGORIES:conference\,climate-health
DESCRIPTION:The annual in-person gathering of CSID Network members to share
  research findings\, foster new collaborations\, and strengthen community
  relationships. Sessions will cover CSID modelling tools\, regional early
  warning systems\, and open-source software development for climate-health
  applications.
LOCATION: Chulalongkorn University\, Bangkok\, Thailand\, 254 Phayathai
  Road\, Pathumwan\, Bangkok 10330\, Thailand\, Main Auditorium\, Building
  1
GEO:13.74;100.5331
ORGANIZER:mailto: CSID Network
END:VEVENT
END:VCALENDAR
