BEGIN:VCALENDAR
VERSION:2.0
PRODID:lauti.newsmast.org
METHOD:REQUEST
BEGIN:VEVENT
UID:172ced98-5757-4ba7-80f5-0a94ab5b5af4
URL:https://lauti.newsmast.org/event/172ced98-5757-4ba7-80f5-0a94ab5b5af4
SUMMARY:Tick-Borne Disease Modelling Symposium
DTSTART:20260508T093000Z
DTEND:20260508T170000Z
CATEGORIES:conference\,vector-borne
DESCRIPTION:A one-day symposium bringing together researchers studying the
  climate-driven expansion of tick-borne diseases across Europe. Sessions
  cover Lyme disease spatial modelling\, tick habitat suitability mapping\,
  and the impact of warming temperatures on vector ecology.
LOCATION: Wellcome Collection\, London\, UK\, 183 Euston Road\, London NW1
  2BE\, United Kingdom\, Henry Wellcome Auditorium
GEO:51.5258;-0.1338
ORGANIZER:mailto:Wellcome Trust Climate & Health
END:VEVENT
END:VCALENDAR
