BEGIN:VCALENDAR
VERSION:2.0
PRODID:lauti.newsmast.org
METHOD:REQUEST
BEGIN:VEVENT
UID:0af53db1-1b74-4c24-875d-7d4c2c2589da
URL:https://lauti.newsmast.org/event/0af53db1-1b74-4c24-875d-7d4c2c2589da
SUMMARY:Satellite Data for Disease Vector Mapping
DTSTART:20260525T150000Z
DTEND:20260525T163000Z
CATEGORIES:webinar\,csid-tools
DESCRIPTION:A webinar demonstrating how satellite-derived environmental
  data such as land surface temperature\, vegetation indices\, and soil
  moisture can be used to map mosquito habitat suitability and predict
  dengue and malaria transmission risk at sub-national scales.
LOCATION:Virtual
END:VEVENT
END:VCALENDAR
